BEGIN:VCALENDAR
VERSION:2.0
PRODID:-//Inštitút manažmentu - ECPv6.15.20//NONSGML v1.0//EN
CALSCALE:GREGORIAN
METHOD:PUBLISH
X-WR-CALNAME:Inštitút manažmentu
X-ORIGINAL-URL:https://imucm.sk/en
X-WR-CALDESC:Events for Inštitút manažmentu
REFRESH-INTERVAL;VALUE=DURATION:PT1H
X-Robots-Tag:noindex
X-PUBLISHED-TTL:PT1H
BEGIN:VTIMEZONE
TZID:Europe/Bratislava
BEGIN:DAYLIGHT
TZOFFSETFROM:+0100
TZOFFSETTO:+0200
TZNAME:CEST
DTSTART:20250330T010000
END:DAYLIGHT
BEGIN:STANDARD
TZOFFSETFROM:+0200
TZOFFSETTO:+0100
TZNAME:CET
DTSTART:20251026T010000
END:STANDARD
BEGIN:DAYLIGHT
TZOFFSETFROM:+0100
TZOFFSETTO:+0200
TZNAME:CEST
DTSTART:20260329T010000
END:DAYLIGHT
BEGIN:STANDARD
TZOFFSETFROM:+0200
TZOFFSETTO:+0100
TZNAME:CET
DTSTART:20261025T010000
END:STANDARD
BEGIN:DAYLIGHT
TZOFFSETFROM:+0100
TZOFFSETTO:+0200
TZNAME:CEST
DTSTART:20270328T010000
END:DAYLIGHT
BEGIN:STANDARD
TZOFFSETFROM:+0200
TZOFFSETTO:+0100
TZNAME:CET
DTSTART:20271031T010000
END:STANDARD
END:VTIMEZONE
BEGIN:VEVENT
DTSTART;TZID=Europe/Bratislava:20260105T080000
DTEND;TZID=Europe/Bratislava:20260207T233000
DTSTAMP:20260424T052743
CREATED:20220922T101108Z
LAST-MODIFIED:20251221T200622Z
UID:33925-1767600000-1770507000@imucm.sk
SUMMARY:Skúškové obdobie
DESCRIPTION:Počas tohto obdobia bude prebiehať pre nekončiacich študentov IM UCM skúškové obdobie z predmetov zimného semestra.
URL:https://imucm.sk/en/event/skuskove-obdobie/
LOCATION:Sídlo Inštitútu manažmentu\, Hajdóczyho č. 1\, Trnava\, Slovakia\, 91701\, Slovakia (Slovak Republic)
CATEGORIES:Univerzitné eventy
ATTACH;FMTTYPE=image/png:https://imucm.sk/wp-content/uploads/2022/07/IM-UCM-Logo-C..png
ORGANIZER;CN="In%C5%A1tit%C3%BAt mana%C5%BEmentu UCM":MAILTO:im@ucm.sk
END:VEVENT
BEGIN:VEVENT
DTSTART;TZID=Europe/Bratislava:20260129T120000
DTEND;TZID=Europe/Bratislava:20260129T133000
DTSTAMP:20260424T052743
CREATED:20260126T125712Z
LAST-MODIFIED:20260126T125712Z
UID:39035-1769688000-1769693400@imucm.sk
SUMMARY:Zákulisie Piešťanských kúpeľov z pohľadu vedenia
DESCRIPTION:Ako vyzerá fungovanie Piešťanských kúpeľov v každodennej realite? Aké rozhodnutia stoja za marketingom\, prevádzkou a riadením jednej z najznámejších kúpeľných inštitúcií na Slovensku? Odpovede ponúkne diskusia „Zákulisie Piešťanských kúpeľov z pohľadu vedenia“\, ktorá prinesie pohľad na kúpele priamo z manažérskej praxe. \nDiskusia sa zameria na marketing\, prevádzku a riadenie v praxi a otvorí tému každodenných rozhodnutí\, ktoré formujú chod kúpeľov aj kvalitu poskytovaných služieb. Účastníci získajú autentický pohľad „zvnútra“ a možnosť nahliadnuť do fungovania organizácie s dlhoročnou tradíciou v oblasti turizmu. \nDiskusie sa zúčastnia zástupcovia vedenia Piešťanských kúpeľov – Eva Wolleková\, obchodná a marketingová riaditeľka\, Marek Koumal\, prevádzkový riaditeľ\, a Silvia Šimonová\, personálna riaditeľka – ktorí prinesú svoje skúsenosti z praxe a pohľad na riadenie organizácie z rôznych perspektív. \nPodujatie je určené pre každého\, kto sa zaujíma o manažment\, služby\, či cestovný ruch. Súčasťou bude aj priestor na otázky a otvorenú diskusiu s hosťami. \nKedy? 29. január 2026 o 12:00 hod. \nKde? Malá aula UCM (BA.2)\, Bučianska 4\, 917 01 Trnava \nVstup voľný | Drobné občerstvenie
URL:https://imucm.sk/en/event/zakulisie-piestanskych-kupelov-z-pohladu-vedenia/
LOCATION:Malá Aula UCM\, Bučianska 4\, Trnava\, 917 01
CATEGORIES:Univerzitné eventy
ORGANIZER;CN="In%C5%A1tit%C3%BAt mana%C5%BEmentu UCM":MAILTO:im@ucm.sk
END:VEVENT
END:VCALENDAR