BEGIN:VCALENDAR
VERSION:2.0
PRODID:-//Inštitút manažmentu - ECPv6.15.20//NONSGML v1.0//EN
CALSCALE:GREGORIAN
METHOD:PUBLISH
X-WR-CALNAME:Inštitút manažmentu
X-ORIGINAL-URL:https://imucm.sk/en
X-WR-CALDESC:Events for Inštitút manažmentu
REFRESH-INTERVAL;VALUE=DURATION:PT1H
X-Robots-Tag:noindex
X-PUBLISHED-TTL:PT1H
BEGIN:VTIMEZONE
TZID:Europe/Bratislava
BEGIN:DAYLIGHT
TZOFFSETFROM:+0100
TZOFFSETTO:+0200
TZNAME:CEST
DTSTART:20250330T010000
END:DAYLIGHT
BEGIN:STANDARD
TZOFFSETFROM:+0200
TZOFFSETTO:+0100
TZNAME:CET
DTSTART:20251026T010000
END:STANDARD
BEGIN:DAYLIGHT
TZOFFSETFROM:+0100
TZOFFSETTO:+0200
TZNAME:CEST
DTSTART:20260329T010000
END:DAYLIGHT
BEGIN:STANDARD
TZOFFSETFROM:+0200
TZOFFSETTO:+0100
TZNAME:CET
DTSTART:20261025T010000
END:STANDARD
BEGIN:DAYLIGHT
TZOFFSETFROM:+0100
TZOFFSETTO:+0200
TZNAME:CEST
DTSTART:20270328T010000
END:DAYLIGHT
BEGIN:STANDARD
TZOFFSETFROM:+0200
TZOFFSETTO:+0100
TZNAME:CET
DTSTART:20271031T010000
END:STANDARD
END:VTIMEZONE
BEGIN:VEVENT
DTSTART;TZID=Europe/Bratislava:20260317T143000
DTEND;TZID=Europe/Bratislava:20260317T153000
DTSTAMP:20260424T083551
CREATED:20260225T175936Z
LAST-MODIFIED:20260225T184649Z
UID:38010-1773757800-1773761400@imucm.sk
SUMMARY:\,\,Za bránami univerzity" Vol. 5
DESCRIPTION:Univerzita je viac než len miesto plné učební\, prednášok a skúšok. Je to svet\, kde sa formujú myšlienky\, inšpirácie a tvorí sa budúcnosť ✨ No čo sa deje\, keď sa brána univerzity zatvorí? 🚪🤔 \nV piatej časti podujatia predstavíme osobu\, ktorá sa pohybuje v akademickom priestore viac ako 20 rokov. Tentokrát sa s vami pani prorektorka UCM v Trnave\, doc. Andrea Čajková podelí nielen o svoj profesijný príbeh 📖\, ale aj o momenty\, ktoré zostávajú skryté pred očami študentov 👀. \n📢 Príďte sa zapojiť do otvorenej diskusie\, kde budete mať priestor na otázky❓ a možnosť nahliadnuť za oponu akademického života 🧠🎤. Podujatie je určené pre všetkých študentov a zamestnancov UCM\, ktorí chcú spoznať svojich pedagógov a kolegov z iného uhla pohľadu 👥. \n📅 Dátum: 17.3.2026\n🕑 Čas: 14:30 hod.\n📍 Miesto: Aula UCM\, Bučianska 4\, 917 01 Trnava \n🍪☕ Občerstvenie pri vstupe zdarma – pretože pozitívne myšlienky idú ruka v ruke s dobrým jedlom 😄
URL:https://imucm.sk/en/event/za-branami-univerzity-vol-5/
LOCATION:Aula UCM\, Bučianska ulica 4/A\, Trnava\, Slovensko\, 91701\, Slovenská republika
CATEGORIES:Univerzitné eventy
ORGANIZER;CN="In%C5%A1tit%C3%BAt mana%C5%BEmentu UCM":MAILTO:im@ucm.sk
END:VEVENT
END:VCALENDAR